BEGIN:VCALENDAR
VERSION:2.0
PRODID:-//wp-events-plugin.com//7.2.3.1//EN
TZID:Europe/London
X-WR-TIMEZONE:Europe/London
BEGIN:VEVENT
UID:3321@walton-chasers.co.uk
DTSTART;TZID=Europe/London:20170620T190000
DTEND;TZID=Europe/London:20170620T200000
DTSTAMP:20170617T170637Z
URL:https://www.walton-chasers.co.uk/wchevents/wch-summer-training-2-2017-
 06-20/
SUMMARY:Peel Pursuit Handicap Race (Domination #3) & BBQ - Brocton Nursery 
 (adj) - 20 Jun 17 19:00
DESCRIPTION:Annual Peel Pursuit handicap race\, followed by the club BBQ. 
  Route map here: Peel Pursuit 2017.\n\nThe grid reference for the start 
 is SJ975194.  The Pursuit route will be taped but people are encouraged t
 o recce the route in advance. The senior 4 km course is the same as last 
 year.  The junior course is 1.9 km and this goes up the path from the jun
 ction that's SE of the corner of Brook Lane.\n\nFirst starters off at 7 pm
  plus any handicap times. Please let Jonathan Howell know if you plan to r
 un so that handicap times can be allotted.  Please either phone or mail 
 chairman@walton-chasers.co.uk. We need to know in advance if  there are a
 ny juniors wanting to do the short course so that marshals can be arranged
 .\n\nThe barbecue is at The Orchard just past the steep part of Chase Road
 \, Brocton and down a small track to the left of the Woodlands.\n\nThere i
 s parking at various points.  There is a small lay-by to the right opposi
 te the entrance to the track to The Orchard.  There is a track immediatel
 y parallel to Chase Road\, which can be used.  Farther up Chase Road is t
 he entrance to the old quarry on the left\, or Beau Vista car park on the 
 right\, which is a short walk.  The start can be accessed from the track 
 to the left just above Brocton nursery or across the small valley from the
  back of The Orchard.
ATTACH;FMTTYPE=image/jpeg:https://www.walton-chasers.co.uk/wp-content/uplo
 ads/2014/08/otraining.gif
CATEGORIES:WCH Training
LOCATION:Brocton Nursery (adj)\, Chase Road\, Brocton\, ST17 0TN\, United K
 ingdom
X-APPLE-STRUCTURED-LOCATION;VALUE=URI;X-ADDRESS=Chase Road\, Brocton\, ST17
  0TN\, United Kingdom;X-APPLE-RADIUS=100;X-TITLE=Brocton Nursery (adj):geo
 :0,0
END:VEVENT
BEGIN:VTIMEZONE
TZID:Europe/London
X-LIC-LOCATION:Europe/London
BEGIN:DAYLIGHT
DTSTART:20170326T020000
TZOFFSETFROM:+0000
TZOFFSETTO:+0100
TZNAME:BST
END:DAYLIGHT
END:VTIMEZONE
END:VCALENDAR