BEGIN:VCALENDAR
VERSION:2.0
PRODID:-//wp-events-plugin.com//7.2.3.1//EN
TZID:Europe/London
X-WR-TIMEZONE:Europe/London
BEGIN:VEVENT
UID:2227@walton-chasers.co.uk
DTSTART;TZID=Europe/London:20130113T100000
DTEND;TZID=Europe/London:20130113T120000
DTSTAMP:20130112T210035Z
URL:https://www.walton-chasers.co.uk/wchevents/wch-club-champs-2/
SUMMARY:WCH Club Champs - Shoal Hill Common (by SH Tavern) - 13 Jan 13 10:0
 0
DESCRIPTION:Closed Club Championships for WCH Club members and their famil
 ies.\nIt is hoped that everybody will congregate in the pub afterwards.\n\
 nPre entry needed to Andy Yeates  - START TIMES can be found here Club Ch
 amps Start List.\n\nThere will be a non-competitive score course for those
  new to the sport not wanting to compete in their respective age classes o
 r you can run down on to another course of your choosing.\n\nAssembly &amp
 \; Parking: Car Park by the Shoal Hill Tavern\, Sandy Lane\, WS11 1RF.\nT
 oilets:  Sorry\, no toilets.\nRegistration:   10.00 – 11.00 am (for 
 those without their own dibber)\nStart times:  10.30 – 11.30 am \nCou
 rses close at 1.30pm but some early controls will disappear before this ti
 me.\n\nStart: will be approx. 350m walk on the other side of a fast road\;
  please follow the white and red tape to the start and back from the finis
 h (125m). Take care crossing the road!\n\nCourses and age groups:\nYellow 
  - 2.2 km  W12-\, M12-\nOrange - 3.0 km  W14\, M14\nShort Green  - 
  3.8 km   W16\, M16\, W60+\nGreen - 4.5 km  W18\, W-open\, W40\, W45\,
  W50\, W55\, M60+\nBlue - 6.2 km  M18\, M-open\, M40\, M45\, M50\, M55\n
 \nOrganiser:    Andy Yeates  \nPlanner:       Sheena Williams 
 \n\nPre entry: to Andy Yeates via email or telephone (details in Dec Attac
 k Point). Please send me your name\, 2013 age group and preferred course b
 y 5th January 2012.  We need to know how many maps to print\, so NO ENTRY
  ON THE DAY.\n\nYour handicap will be calculated by Club Captain\, Kelvin 
 Dawson\, based on his knowledge of your abilities.  Everyone is given a h
 andicap time and there is a Winner trophy and Handicap trophy for each cla
 ss.  The person who is awarded the Winner trophy is not eligible to recei
 ve the Handicap trophy as well.  The event is open to all WCH club member
 s.  You can run your own age class or you can run up – in both cases yo
 u are competitive.  Or\, if you prefer you can choose an easier course to
  enjoy the event on a non-competitive basis.\n\nShoal Hill Tavern: You may
  want to go to the Shoal Hill Tavern after your run for refreshments or a 
 Sunday Lunch. They open at 12 noon and here is a link to their website to 
 help you decide www.shoalhill.co.uk
ATTACH;FMTTYPE=image/jpeg:https://www.walton-chasers.co.uk/wp-content/uplo
 ads/2012/03/ocomp.gif
CATEGORIES:WCH Race
LOCATION:Shoal Hill Common (by SH Tavern)\, Sandy Lane\, Cannock\, WS11 1RF
 \, United Kingdom
X-APPLE-STRUCTURED-LOCATION;VALUE=URI;X-ADDRESS=Sandy Lane\, Cannock\, WS11
  1RF\, United Kingdom;X-APPLE-RADIUS=100;X-TITLE=Shoal Hill Common (by SH 
 Tavern):geo:0,0
END:VEVENT
BEGIN:VTIMEZONE
TZID:Europe/London
X-LIC-LOCATION:Europe/London
BEGIN:STANDARD
DTSTART:20121028T010000
TZOFFSETFROM:+0100
TZOFFSETTO:+0000
TZNAME:GMT
END:STANDARD
END:VTIMEZONE
END:VCALENDAR