BEGIN:VCALENDAR
VERSION:2.0
PRODID:-//wp-events-plugin.com//7.2.3.1//EN
TZID:Europe/London
X-WR-TIMEZONE:Europe/London
BEGIN:VEVENT
UID:1970@walton-chasers.co.uk
DTSTART;TZID=Europe/London:20120721T110000
DTEND;TZID=Europe/London:20120721T120000
DTSTAMP:20120717T104226Z
URL:https://www.walton-chasers.co.uk/wchevents/saturday-series/
SUMMARY:Saturday Series - Lichfield - Darwin Park\, Lichfield - 21 Jul 12 1
 1:00
DESCRIPTION:Urban sprint-ish event around the Darwin Park housing estate in
  Lichfield.  The event centre will be next to the statue in the centre of
  the estate - just off Deykin Road.  There is no official event car park\
 , parking can be found either on the streets of the estate (please use com
 mon sense and courtesy when parking) or in the nearby Waitrose (take the 
 footpath out of the East side of the car park and follow the green belt no
 rth-east through the estate).\n\nAfter the run we're thinking of going for
  a bite to eat\, probably in the Bowling Green unless anyone has any bette
 r idea so all welcome to come along.
ATTACH;FMTTYPE=image/jpeg:https://www.walton-chasers.co.uk/wp-content/uplo
 ads/2012/04/otraining.gif
CATEGORIES:WCH Training
LOCATION:Darwin Park\, Lichfield\, Deykin Road\, Lichfield\, WS13 6UA\, Uni
 ted Kingdom
X-APPLE-STRUCTURED-LOCATION;VALUE=URI;X-ADDRESS=Deykin Road\, Lichfield\, W
 S13 6UA\, United Kingdom;X-APPLE-RADIUS=100;X-TITLE=Darwin Park\, Lichfiel
 d:geo:0,0
END:VEVENT
BEGIN:VTIMEZONE
TZID:Europe/London
X-LIC-LOCATION:Europe/London
BEGIN:DAYLIGHT
DTSTART:20120325T020000
TZOFFSETFROM:+0000
TZOFFSETTO:+0100
TZNAME:BST
END:DAYLIGHT
END:VTIMEZONE
END:VCALENDAR