BEGIN:VCALENDAR
VERSION:2.0
PRODID:-//wp-events-plugin.com//7.2.3.1//EN
TZID:Europe/London
X-WR-TIMEZONE:Europe/London
BEGIN:VEVENT
UID:4039@walton-chasers.co.uk
DTSTART;TZID=Europe/London:20231223T110000
DTEND;TZID=Europe/London:20231223T120000
DTSTAMP:20231220T190538Z
URL:https://www.walton-chasers.co.uk/wchevents/mungo-bone-handicap-race-4/
SUMMARY:Mungo Bone Handicap Race - Brocton Village Hall - 23 Dec 23 11:00
DESCRIPTION:The annual Mungo Bone Handicap Race takes place this year on Sa
 turday 23rd December.  This is our annual club get together for a run fol
 lowed by mince pies and mulled wine at Brocton Village Hall.\nThe hall wil
 l be open from 10am.\nThe start is a 10 min slow walk up a steep hill - us
 ual place (see map )\nFirst start around 11:00am (updated from 10:30 so pe
 ople can do the Park Run!)\nFinish is a 5 min flat walk back - usual place
  (see map)\n\nThe race is a 4km route\, partly taped with a control at the
  furthest point away. The aim is for everyone to finish at the same time\,
  so starts are staggered with the fastest setting off last.\nFor juniors\,
  a 2km route\, fully taped. Juniors have a mass start.\nBoth races are won
  by the first to finish.\nClub members should have received an email from 
 Iain Stamp - entries to Iain before the day so that he can work out the ha
 ndicaps.
ATTACH;FMTTYPE=image/jpeg:https://www.walton-chasers.co.uk/wp-content/uplo
 ads/2014/08/indivrun.gif
CATEGORIES:WCH Race
LOCATION:Brocton Village Hall\, Oldacre Lane\, Brocton\, 
X-APPLE-STRUCTURED-LOCATION;VALUE=URI;X-ADDRESS=Oldacre Lane\, Brocton\, ;X
 -APPLE-RADIUS=100;X-TITLE=Brocton Village Hall:geo:0,0
END:VEVENT
BEGIN:VTIMEZONE
TZID:Europe/London
X-LIC-LOCATION:Europe/London
BEGIN:STANDARD
DTSTART:20231029T010000
TZOFFSETFROM:+0100
TZOFFSETTO:+0000
TZNAME:GMT
END:STANDARD
END:VTIMEZONE
END:VCALENDAR