BEGIN:VCALENDAR
VERSION:2.0
PRODID:-//wp-events-plugin.com//7.2.3.1//EN
TZID:Europe/London
X-WR-TIMEZONE:Europe/London
BEGIN:VEVENT
UID:4095@walton-chasers.co.uk
DTSTART;TZID=Europe/London:20250301T100000
DTEND;TZID=Europe/London:20250301T110000
DTSTAMP:20250224T091342Z
URL:https://www.walton-chasers.co.uk/wchevents/local-event-4/
SUMMARY:Local event - Chase Road Corner - 1 Mar 25 10:00
DESCRIPTION:A local\, low-key event\, for newcomers and experienced oriente
 ers.\nBeginners are very welcome!\nLocation: Oldacre\nCar Park: Chase Road
  Corner\nPost Code: WS15 2UA\nWhat3Words: pastime.ideals.alleyway\nCourses
 : Yellow\, Orange\,  Short Green (3.9km)\, Green (4.4km).\nToilets: None 
 - nearest public toilets at Milford.\nRegistration: Entry on the day is av
 ailable\, but if you plan to come\, please email your Name\, and where app
 licable\, your Club\, Age Class\, BOF no\, SI no to WaltonChasersEvents@gm
 ail.com  (pay on the day and this is non committal but helps with printin
 g maps)\nPunching System: SI (Dibbers will be provided to newcomers to bor
 row)\nRegistration and enquiries: 10:00 to 11:00am\nStart Times: 10:30 to 
 11:30am\nFee: Seniors £5\, Juniors £2\nImportant Information: Once you'v
 e started your course\, you must report to the download tent to prevent an
  unnecessary search.
ATTACH;FMTTYPE=image/jpeg:https://www.walton-chasers.co.uk/wp-content/uplo
 ads/2012/03/ocomp.gif
CATEGORIES:WCH Race
LOCATION:Chase Road Corner\, Cross Chase Road\, Brocton\, United Kingdom
X-APPLE-STRUCTURED-LOCATION;VALUE=URI;X-ADDRESS=Cross Chase Road\, Brocton\
 , United Kingdom;X-APPLE-RADIUS=100;X-TITLE=Chase Road Corner:geo:0,0
END:VEVENT
BEGIN:VTIMEZONE
TZID:Europe/London
X-LIC-LOCATION:Europe/London
BEGIN:STANDARD
DTSTART:20241027T010000
TZOFFSETFROM:+0100
TZOFFSETTO:+0000
TZNAME:GMT
END:STANDARD
END:VTIMEZONE
END:VCALENDAR