BEGIN:VCALENDAR
VERSION:2.0
PRODID:-//wp-events-plugin.com//7.2.3.1//EN
TZID:Europe/London
X-WR-TIMEZONE:Europe/London
BEGIN:VEVENT
UID:3395@walton-chasers.co.uk
DTSTART;TZID=Europe/London:20181021T100000
DTEND;TZID=Europe/London:20181021T130000
DTSTAMP:20181010T211231Z
URL:https://www.walton-chasers.co.uk/wchevents/compass-sport-cup-and-troph
 y-final/
SUMMARY:Compass Sport Cup and Trophy Final - Haywood Warren - 21 Oct 18 10:
 00
DESCRIPTION:The final details are now available: CSC Final_Details_V2 0910
 18\nThe start list is here: CSC Start List 2018\nThe embargoed area is he
 re: BOF embargoed area - CSC and CST Final\n\n&nbsp\;
CATEGORIES:WCH Race
LOCATION:Haywood Warren\, North Cannock Chase\, Stafford\, United Kingdom
X-APPLE-STRUCTURED-LOCATION;VALUE=URI;X-ADDRESS=North Cannock Chase\, Staff
 ord\, United Kingdom;X-APPLE-RADIUS=100;X-TITLE=Haywood Warren:geo:0,0
END:VEVENT
BEGIN:VTIMEZONE
TZID:Europe/London
X-LIC-LOCATION:Europe/London
BEGIN:DAYLIGHT
DTSTART:20180325T020000
TZOFFSETFROM:+0000
TZOFFSETTO:+0100
TZNAME:BST
END:DAYLIGHT
END:VTIMEZONE
END:VCALENDAR