BEGIN:VCALENDAR
VERSION:2.0
PRODID:-//wp-events-plugin.com//7.2.3.1//EN
TZID:Europe/London
X-WR-TIMEZONE:Europe/London
BEGIN:VEVENT
UID:3032@walton-chasers.co.uk
DTSTART;TZID=Europe/London:20160508T100000
DTEND;TZID=Europe/London:20160508T120000
DTSTAMP:20160506T165428Z
URL:https://www.walton-chasers.co.uk/wchevents/colour-coded-race-2/
SUMMARY:Colour coded race & WM League - Mansty & Fullmoor Wood - 8 May 16 1
 0:00
DESCRIPTION:This is the re-arranged date for the race we had to postpone on
  17th April.  \nStandard colour coded race\, with all abilities catered f
 or.\nPlease see the flyer and final details for more info... Mansty 08051
 6 and Mansty 2016 Final details\n\n****6th May update.  Yesterday\, we 
 understood there would be sheep in the car parking field.  Today\, we hav
 e agreed to help round them up!  So\, dogs will be allowed on a lead in t
 he car park after all.****
ATTACH;FMTTYPE=image/jpeg:https://www.walton-chasers.co.uk/wp-content/uplo
 ads/2012/03/ocomp.gif
CATEGORIES:WCH Race
LOCATION:Mansty & Fullmoor Wood\, Micklewood Lane\, Cannock\, United Kingdo
 m
X-APPLE-STRUCTURED-LOCATION;VALUE=URI;X-ADDRESS=Micklewood Lane\, Cannock\,
  United Kingdom;X-APPLE-RADIUS=100;X-TITLE=Mansty & Fullmoor Wood:geo:0,0
END:VEVENT
BEGIN:VTIMEZONE
TZID:Europe/London
X-LIC-LOCATION:Europe/London
BEGIN:DAYLIGHT
DTSTART:20160327T020000
TZOFFSETFROM:+0000
TZOFFSETTO:+0100
TZNAME:BST
END:DAYLIGHT
END:VTIMEZONE
END:VCALENDAR