BEGIN:VCALENDAR
VERSION:2.0
PRODID:-//wp-events-plugin.com//7.2.3.1//EN
TZID:Europe/London
X-WR-TIMEZONE:Europe/London
BEGIN:VEVENT
UID:4119@walton-chasers.co.uk
DTSTART;TZID=Europe/London:20250624T184500
DTEND;TZID=Europe/London:20250624T194500
DTSTAMP:20250622T194202Z
URL:https://www.walton-chasers.co.uk/wchevents/club-training-2025-06-24/
SUMMARY:2x2 Relays - Old Shooting Butts - 24 Jun 25 18:45
DESCRIPTION:Tonight is the annual 2x2 Relay - short legs of about 2.5km eac
 h\, two person relay\, each person runs two legs. This is the first time t
 his area has been opened up to non WCH members. The area comprises a woode
 d area and open area and buildings. If you entering a team please email Wa
 ltonChasersEvents@gmail.com with your team members \, SI number and BOF nu
 mbers where appropriate.  Individuals can also enter - you will be buddie
 d up on the evening.\n\nTimings: Mass start at 19:00. Please arrive by 18:
 45 latest.\nSeniors £4\, Juniors £2\n\nThe race will form the individual
  sprint element of the WCH Domination series.\n\nThe event is at the JP Al
 ternative Education Centre\, which is on Penkridge Bank Rd\, near Rugeley.
  Penkridge Bank Rd may be accessed from the A34 at Pottal Pool roundabout\
 , just north of Huntington or from the A460 at traffic lights just north o
 f the roundabout on the main road through Rugeley. Please self park in the
  signed car park.\nGoogleMaps link\nWhat3Words: abruptly.levels.plums
ATTACH;FMTTYPE=image/jpeg:https://www.walton-chasers.co.uk/wp-content/uplo
 ads/2014/08/otraining.gif
CATEGORIES:WCH Race
LOCATION:Old Shooting Butts\, Penkridge Bank Road\, Rugeley\, WS15 2UB\, Un
 ited Kingdom
X-APPLE-STRUCTURED-LOCATION;VALUE=URI;X-ADDRESS=Penkridge Bank Road\, Rugel
 ey\, WS15 2UB\, United Kingdom;X-APPLE-RADIUS=100;X-TITLE=Old Shooting But
 ts:geo:0,0
END:VEVENT
BEGIN:VTIMEZONE
TZID:Europe/London
X-LIC-LOCATION:Europe/London
BEGIN:DAYLIGHT
DTSTART:20250330T020000
TZOFFSETFROM:+0000
TZOFFSETTO:+0100
TZNAME:BST
END:DAYLIGHT
END:VTIMEZONE
END:VCALENDAR