BEGIN:VCALENDAR
VERSION:2.0
PRODID:-//wp-events-plugin.com//7.2.3.1//EN
TZID:Europe/London
X-WR-TIMEZONE:Europe/London
BEGIN:VEVENT
UID:3967@walton-chasers.co.uk
DTSTART;TZID=Europe/London:20220726T173000
DTEND;TZID=Europe/London:20220726T193000
DTSTAMP:20220714T163839Z
URL:https://www.walton-chasers.co.uk/wchevents/club-member-summer-training
 -2022-06-28/
SUMMARY:Evening Urban Race - Lichfield - Lombard Car Park - 26 Jul 22 17:30
DESCRIPTION:Full details of the re-arranged race are here: Lichfield Urban 
 26July22
ATTACH;FMTTYPE=image/jpeg:https://www.walton-chasers.co.uk/wp-content/uplo
 ads/2012/03/ocomp.gif
CATEGORIES:WCH Race
LOCATION:Lichfield - Lombard Car Park\, Cross Keys\, Lichfield\, WS13 6DW\,
  United Kingdom
X-APPLE-STRUCTURED-LOCATION;VALUE=URI;X-ADDRESS=Cross Keys\, Lichfield\, WS
 13 6DW\, United Kingdom;X-APPLE-RADIUS=100;X-TITLE=Lichfield - Lombard Car
  Park:geo:0,0
END:VEVENT
BEGIN:VTIMEZONE
TZID:Europe/London
X-LIC-LOCATION:Europe/London
BEGIN:DAYLIGHT
DTSTART:20220327T020000
TZOFFSETFROM:+0000
TZOFFSETTO:+0100
TZNAME:BST
END:DAYLIGHT
END:VTIMEZONE
END:VCALENDAR