BEGIN:VCALENDAR
VERSION:2.0
PRODID:-//wp-events-plugin.com//7.2.3.1//EN
TZID:Europe/London
X-WR-TIMEZONE:Europe/London
BEGIN:VEVENT
UID:3827@walton-chasers.co.uk
DTSTART;TZID=Europe/London:20200111T180000
DTEND;TZID=Europe/London:20200111T210000
DTSTAMP:20191229T151442Z
URL:https://www.walton-chasers.co.uk/wchevents/annual-club-dinner-2020-02-
 09/
SUMMARY:Annual Club Party - Colwich & Little Haywood Village Hall - 11 Jan 
 20 18:00
DESCRIPTION:The Club party\, is this year in a new location and a new time!
   We couldn't get Brocton Village Hall for our preferred date so have boo
 ked Colwich and Little Haywood Village Hall (http://colwichandlttlehaywood
 villagehall.moonfruit.com/home-page/4548852345)\, which is on an estate of
 f the main road going through Little Haywood.\n\nThe other change we've ma
 de is to start at 6 pm (with a finish at 9 pm) as we felt this would make 
 it easier for parents with small children to spend some time at the party.
  There will be lots of games and Mary and Neil are leading this part.  As
  usual there's also a buffet\, which depends on everyone bringing some foo
 d.\n\nOpen to all ages - come along and have some fun!
ATTACH;FMTTYPE=image/jpeg:https://www.walton-chasers.co.uk/wp-content/uplo
 ads/2012/05/clubsocial.gif
CATEGORIES:WCH Social
LOCATION:Colwich & Little Haywood Village Hall\, Chilwell Avenue\, Little H
 aywood\, ST18 0QZ\, United Kingdom
X-APPLE-STRUCTURED-LOCATION;VALUE=URI;X-ADDRESS=Chilwell Avenue\, Little Ha
 ywood\, ST18 0QZ\, United Kingdom;X-APPLE-RADIUS=100;X-TITLE=Colwich & Lit
 tle Haywood Village Hall:geo:0,0
END:VEVENT
BEGIN:VTIMEZONE
TZID:Europe/London
X-LIC-LOCATION:Europe/London
BEGIN:STANDARD
DTSTART:20191027T010000
TZOFFSETFROM:+0100
TZOFFSETTO:+0000
TZNAME:GMT
END:STANDARD
END:VTIMEZONE
END:VCALENDAR